BEGIN:VCALENDAR
VERSION:2.0
PRODID:-//Wittering Academy Riding Club - ECPv6.10.3//NONSGML v1.0//EN
CALSCALE:GREGORIAN
METHOD:PUBLISH
X-WR-CALNAME:Wittering Academy Riding Club
X-ORIGINAL-URL:https://www.witteringacademy.com
X-WR-CALDESC:Events for Wittering Academy Riding Club
REFRESH-INTERVAL;VALUE=DURATION:PT1H
X-Robots-Tag:noindex
X-PUBLISHED-TTL:PT1H
BEGIN:VTIMEZONE
TZID:Europe/London
BEGIN:DAYLIGHT
TZOFFSETFROM:+0000
TZOFFSETTO:+0100
TZNAME:BST
DTSTART:20250330T010000
END:DAYLIGHT
BEGIN:STANDARD
TZOFFSETFROM:+0100
TZOFFSETTO:+0000
TZNAME:GMT
DTSTART:20251026T010000
END:STANDARD
END:VTIMEZONE
BEGIN:VEVENT
DTSTART;VALUE=DATE:20251018
DTEND;VALUE=DATE:20251019
DTSTAMP:20260419T151345
CREATED:20250830T200201Z
LAST-MODIFIED:20250830T200201Z
UID:2217-1760745600-1760831999@www.witteringacademy.com
SUMMARY:Mentoring with Claire Llewelyn
DESCRIPTION:
URL:https://www.witteringacademy.com/event/mentoring-with-claire-llewelyn-9/
CATEGORIES:Mentoring
END:VEVENT
BEGIN:VEVENT
DTSTART;VALUE=DATE:20251018
DTEND;VALUE=DATE:20251019
DTSTAMP:20260419T151345
CREATED:20250915T164452Z
LAST-MODIFIED:20250915T164452Z
UID:2230-1760745600-1760831999@www.witteringacademy.com
SUMMARY:Tom Fray mentoring
DESCRIPTION:
URL:https://www.witteringacademy.com/event/tom-fray-mentoring-4/
CATEGORIES:Mentoring
END:VEVENT
END:VCALENDAR