BEGIN:VCALENDAR
VERSION:2.0
PRODID:-//Wittering Academy Riding Club - ECPv6.10.3//NONSGML v1.0//EN
CALSCALE:GREGORIAN
METHOD:PUBLISH
X-WR-CALNAME:Wittering Academy Riding Club
X-ORIGINAL-URL:https://www.witteringacademy.com
X-WR-CALDESC:Events for Wittering Academy Riding Club
REFRESH-INTERVAL;VALUE=DURATION:PT1H
X-Robots-Tag:noindex
X-PUBLISHED-TTL:PT1H
BEGIN:VTIMEZONE
TZID:Europe/London
BEGIN:DAYLIGHT
TZOFFSETFROM:+0000
TZOFFSETTO:+0100
TZNAME:BST
DTSTART:20250330T010000
END:DAYLIGHT
BEGIN:STANDARD
TZOFFSETFROM:+0100
TZOFFSETTO:+0000
TZNAME:GMT
DTSTART:20251026T010000
END:STANDARD
END:VTIMEZONE
BEGIN:VEVENT
DTSTART;TZID=Europe/London:20250518T080000
DTEND;TZID=Europe/London:20250518T170000
DTSTAMP:20260420T020418
CREATED:20250105T192844Z
LAST-MODIFIED:20250105T192844Z
UID:2043-1747555200-1747587600@www.witteringacademy.com
SUMMARY:Show Jumping competition
DESCRIPTION:Show jumping competition \nSun 18th May \nheld at Grange Farm\, Wittering \nby kind permission of Robin And Di Dunlop \nschedule to follow
URL:https://www.witteringacademy.com/event/show-jumping-competition/
CATEGORIES:Show Jumping Competition
END:VEVENT
BEGIN:VEVENT
DTSTART;VALUE=DATE:20250517
DTEND;VALUE=DATE:20250518
DTSTAMP:20260420T020418
CREATED:20250504T184345Z
LAST-MODIFIED:20250504T184345Z
UID:2144-1747440000-1747526399@www.witteringacademy.com
SUMMARY:Mentoring with Cathy Lammie
DESCRIPTION:
URL:https://www.witteringacademy.com/event/mentoring-with-cathy-lammie-6/
CATEGORIES:Mentoring
END:VEVENT
BEGIN:VEVENT
DTSTART;VALUE=DATE:20250517
DTEND;VALUE=DATE:20250518
DTSTAMP:20260420T020418
CREATED:20250408T185007Z
LAST-MODIFIED:20250408T185007Z
UID:2134-1747440000-1747526399@www.witteringacademy.com
SUMMARY:Julie Corrigan mentoring
DESCRIPTION:
URL:https://www.witteringacademy.com/event/julie-corrigan-mentoring/
CATEGORIES:Mentoring
END:VEVENT
BEGIN:VEVENT
DTSTART;VALUE=DATE:20250511
DTEND;VALUE=DATE:20250512
DTSTAMP:20260420T020418
CREATED:20250504T184109Z
LAST-MODIFIED:20250504T184109Z
UID:2140-1746921600-1747007999@www.witteringacademy.com
SUMMARY:Mentoring with Rachael Finch
DESCRIPTION:
URL:https://www.witteringacademy.com/event/mentoring-with-rachael-finch-4/
CATEGORIES:Mentoring
END:VEVENT
BEGIN:VEVENT
DTSTART;VALUE=DATE:20250510
DTEND;VALUE=DATE:20250511
DTSTAMP:20260420T020418
CREATED:20250408T184551Z
LAST-MODIFIED:20250408T184551Z
UID:2132-1746835200-1746921599@www.witteringacademy.com
SUMMARY:Mentoring with Claire Llewelyn
DESCRIPTION:
URL:https://www.witteringacademy.com/event/mentoring-with-claire-llewelyn-6/
CATEGORIES:Mentoring
END:VEVENT
BEGIN:VEVENT
DTSTART;TZID=Europe/London:20250504T080000
DTEND;TZID=Europe/London:20250504T170000
DTSTAMP:20260420T020418
CREATED:20250108T202126Z
LAST-MODIFIED:20250108T202304Z
UID:2056-1746345600-1746378000@www.witteringacademy.com
SUMMARY:Area 7 Dressage qualifier
DESCRIPTION:Area 7 Dressage  qualifier \nRun by Huntingdon Riding Club to be held at Milton Park \nEntries via team managers
URL:https://www.witteringacademy.com/event/area-7-combined-training-qualifier-2/
CATEGORIES:Qualifiers
END:VEVENT
BEGIN:VEVENT
DTSTART;VALUE=DATE:20250427
DTEND;VALUE=DATE:20250428
DTSTAMP:20260420T020418
CREATED:20250309T213605Z
LAST-MODIFIED:20250309T213605Z
UID:2125-1745712000-1745798399@www.witteringacademy.com
SUMMARY:Mentoring with Cathy Lammie
DESCRIPTION:
URL:https://www.witteringacademy.com/event/mentoring-with-cathy-lammie-5/
CATEGORIES:Mentoring
END:VEVENT
BEGIN:VEVENT
DTSTART;VALUE=DATE:20250426
DTEND;VALUE=DATE:20250427
DTSTAMP:20260420T020418
CREATED:20250309T213233Z
LAST-MODIFIED:20250309T213233Z
UID:2121-1745625600-1745711999@www.witteringacademy.com
SUMMARY:Mentoring with Tom Fray
DESCRIPTION:
URL:https://www.witteringacademy.com/event/mentoring-with-tom-fray-5/
CATEGORIES:Mentoring
END:VEVENT
BEGIN:VEVENT
DTSTART;VALUE=DATE:20250426
DTEND;VALUE=DATE:20250427
DTSTAMP:20260420T020418
CREATED:20250309T213156Z
LAST-MODIFIED:20250309T213156Z
UID:2119-1745625600-1745711999@www.witteringacademy.com
SUMMARY:Mentoring with Julie Corrigan
DESCRIPTION:
URL:https://www.witteringacademy.com/event/mentoring-with-julie-corrigan-5/
CATEGORIES:Mentoring
END:VEVENT
BEGIN:VEVENT
DTSTART;VALUE=DATE:20250420
DTEND;VALUE=DATE:20250421
DTSTAMP:20260420T020418
CREATED:20250105T193324Z
LAST-MODIFIED:20250105T193324Z
UID:2049-1745107200-1745193599@www.witteringacademy.com
SUMMARY:Area 7 Combined Training Qualifier
DESCRIPTION:BRC qualifier to be held at Grange Farm\, Wittering. \nEntries via RC club team managers.
URL:https://www.witteringacademy.com/event/area-7-combined-training-qualifier/
CATEGORIES:BRC Championships
END:VEVENT
BEGIN:VEVENT
DTSTART;VALUE=DATE:20250413
DTEND;VALUE=DATE:20250414
DTSTAMP:20260420T020418
CREATED:20250127T212757Z
LAST-MODIFIED:20250127T212757Z
UID:2094-1744502400-1744588799@www.witteringacademy.com
SUMMARY:Trec Clinic
DESCRIPTION:2025 Trec Training Clinics\nSunday 16th February 2025\nSunday 9th March 2025\nSunday 13th April 2025 \n\nAT GRANGE FARM EQUESTRIAN CENTRE\, WITTERING\, NEAR STAMFORD\nBy kind permission of Mr and Mrs R Dunlop \n\nExperience the adventure of TREC under the excellent tutoring of Karen Barker and Rachael Finch. \n\nEach clinic will comprise of 5 obstacles for you to attempt. Full explanation of each obstacle will be given\, including what a judge would be looking for in a competition (skill\, pace\, etc).  Where possible we will also include the MA corridor for the control of paces section. \n\nWe will run 3 classes: In hand / Complete Novice / Open \n\nSessions will be in groups of 4 (max) for 1hour\, with first class starting at 10am on the day. \n\nCost will be Members £15.00 and Non Members £17.50 per person \n\nBACS payment details: Wittering Academy RC SC: 208120 ACCOUNT NO:50647357 \nPLEASE ENSURE YOU INCLIDE REFERENCE ‘TREC’  \nBookings can be made by emailing trec@witteringacademy.com If oversubscribed priority will on a first come first serve basis. Booking will not be confirmed until BACS payment received. \n\nTimes will be issued on the Friday evening before the clinic day. \n\nBookings for several clinics can be made at one time – again payment will secure place. \n\nPlease indicate in booking if you are in-hand or ridden and if ridden then complete novice or open\, The name of handler/rider and horse name. \nIf you are coming with friends then who you would like in your group (we cannot guarantee this but will accommodate wherever possible). \n\nTREC Clinic Contact : Anne Davies 07841 412852 \n\nYour personal information that you supply to us may be used in several ways to facilitate your WARC event participation. It should be noted that we are affiliated to the British Horse Society as a British Riding Club. To see our full Privacy Policy\, or if you need any further information\, please write to us \n\nPLEASE ENSURE ALL DROPPINGS AND HAY ARE REMOVED FROM THE LORRY PARK
URL:https://www.witteringacademy.com/event/trec-clinic-3/
CATEGORIES:Trec
END:VEVENT
BEGIN:VEVENT
DTSTART;VALUE=DATE:20250412
DTEND;VALUE=DATE:20250413
DTSTAMP:20260420T020418
CREATED:20250309T212220Z
LAST-MODIFIED:20250309T212220Z
UID:2109-1744416000-1744502399@www.witteringacademy.com
SUMMARY:Mentoring with Claire Llewelyn
DESCRIPTION:
URL:https://www.witteringacademy.com/event/mentoring-with-claire-llewelyn-5/
CATEGORIES:Mentoring
END:VEVENT
BEGIN:VEVENT
DTSTART;VALUE=DATE:20250406
DTEND;VALUE=DATE:20250407
DTSTAMP:20260420T020418
CREATED:20250309T213334Z
LAST-MODIFIED:20250309T213334Z
UID:2123-1743897600-1743983999@www.witteringacademy.com
SUMMARY:Mentoring with Rachael Finch
DESCRIPTION:
URL:https://www.witteringacademy.com/event/mentoring-with-rachael-finch-3/
CATEGORIES:Mentoring
END:VEVENT
BEGIN:VEVENT
DTSTART;VALUE=DATE:20250406
DTEND;VALUE=DATE:20250407
DTSTAMP:20260420T020418
CREATED:20250309T212306Z
LAST-MODIFIED:20250309T212910Z
UID:2111-1743897600-1743983999@www.witteringacademy.com
SUMMARY:Equigym with Claire Llewelyn
DESCRIPTION:Equigym sessions use 15-20 poles in a variety of layouts and are a great way to develop your horse’s co-ordination\, lift and core stability. We are offering group sessions for WARC members only (unless there are spaces). \n45 mins group session (no more than 4 people) \nWARC Members Only – £15 per session \n(non members £20 if space allows) \nTo book your place\, complete the booking form and email to Angela Lumsdon on angelalumsdon@outlook.com  \nAny queries\, please contact Angela on 0779 5261105 \n  \nTimes will be available on 4th April and will be texted/emailed to you directly \nNB we will need help to set up on Saturday at 4.00\, plus someone in each session to help Claire move poles and also to put away at the end. Ideally this should be people who have a slot – please bear this in mind – we can’t run it without help and place won’t be guaranteed without your offer of support
URL:https://www.witteringacademy.com/event/equigym-with-claire-llewelyn/
CATEGORIES:Clinic
END:VEVENT
BEGIN:VEVENT
DTSTART;TZID=Europe/London:20250329T130000
DTEND;TZID=Europe/London:20250329T170000
DTSTAMP:20260420T020418
CREATED:20250112T194333Z
LAST-MODIFIED:20250309T213831Z
UID:2074-1743253200-1743267600@www.witteringacademy.com
SUMMARY:Mentoring with Tom Fray
DESCRIPTION:
URL:https://www.witteringacademy.com/event/mentoring-with-tom-fray-4/
CATEGORIES:Mentoring
END:VEVENT
BEGIN:VEVENT
DTSTART;VALUE=DATE:20250329
DTEND;VALUE=DATE:20250330
DTSTAMP:20260420T020418
CREATED:20241118T174244Z
LAST-MODIFIED:20241118T174244Z
UID:2007-1743206400-1743292799@www.witteringacademy.com
SUMMARY:Dressage Competition
DESCRIPTION:Online entries only \n  \nSchedule to follow
URL:https://www.witteringacademy.com/event/dressage-competition-6/
CATEGORIES:Dressage Competition
END:VEVENT
BEGIN:VEVENT
DTSTART;TZID=Europe/London:20250323T080000
DTEND;TZID=Europe/London:20250323T170000
DTSTAMP:20260420T020418
CREATED:20250309T213126Z
LAST-MODIFIED:20250309T213126Z
UID:2117-1742716800-1742749200@www.witteringacademy.com
SUMMARY:Mentoring with Julie Corrigan
DESCRIPTION:
URL:https://www.witteringacademy.com/event/mentoring-with-julie-corrigan-4/
CATEGORIES:Mentoring
END:VEVENT
BEGIN:VEVENT
DTSTART;VALUE=DATE:20250323
DTEND;VALUE=DATE:20250324
DTSTAMP:20260420T020418
CREATED:20250112T194223Z
LAST-MODIFIED:20250112T194223Z
UID:2070-1742688000-1742774399@www.witteringacademy.com
SUMMARY:Mentoring with Cathy Lammie
DESCRIPTION:
URL:https://www.witteringacademy.com/event/mentoring-with-cathy-lammie-4/
CATEGORIES:Mentoring
END:VEVENT
BEGIN:VEVENT
DTSTART;VALUE=DATE:20250315
DTEND;VALUE=DATE:20250316
DTSTAMP:20260420T020418
CREATED:20250309T212140Z
LAST-MODIFIED:20250309T212140Z
UID:2107-1741996800-1742083199@www.witteringacademy.com
SUMMARY:Mentoring with Claire Llewelyn
DESCRIPTION:
URL:https://www.witteringacademy.com/event/mentoring-with-claire-llewelyn-4/
CATEGORIES:Mentoring
END:VEVENT
BEGIN:VEVENT
DTSTART;VALUE=DATE:20250315
DTEND;VALUE=DATE:20250316
DTSTAMP:20260420T020418
CREATED:20250105T192143Z
LAST-MODIFIED:20250107T193603Z
UID:2039-1741996800-1742083199@www.witteringacademy.com
SUMMARY:All day assisted clear round
DESCRIPTION:All day assisted clear round with Rachael Finch on hand to help you over a course of show jumps. \nTo be held at Grange Farm\, Wittering \nby kind permission of Di and Robin Dunlop \nclear round March 25
URL:https://www.witteringacademy.com/event/all-day-assisted-clear-round/
CATEGORIES:Show Jumping Competition
END:VEVENT
BEGIN:VEVENT
DTSTART;VALUE=DATE:20250309
DTEND;VALUE=DATE:20250310
DTSTAMP:20260420T020418
CREATED:20250127T212455Z
LAST-MODIFIED:20250127T212455Z
UID:2092-1741478400-1741564799@www.witteringacademy.com
SUMMARY:Trec Clinic
DESCRIPTION:2025 Trec Training Clinics\nSunday 16th February 2025\nSunday 9th March 2025\nSunday 13th April 2025 \n\nAT GRANGE FARM EQUESTRIAN CENTRE\, WITTERING\, NEAR STAMFORD\nBy kind permission of Mr and Mrs R Dunlop \n\nExperience the adventure of TREC under the excellent tutoring of Karen Barker and Rachael Finch. \n\nEach clinic will comprise of 5 obstacles for you to attempt. Full explanation of each obstacle will be given\, including what a judge would be looking for in a competition (skill\, pace\, etc).  Where possible we will also include the MA corridor for the control of paces section. \n\nWe will run 3 classes: In hand / Complete Novice / Open \n\nSessions will be in groups of 4 (max) for 1hour\, with first class starting at 10am on the day. \n\nCost will be Members £15.00 and Non Members £17.50 per person \n\nBACS payment details: Wittering Academy RC SC: 208120 ACCOUNT NO:50647357 \nPLEASE ENSURE YOU INCLIDE REFERENCE ‘TREC’  \nBookings can be made by emailing trec@witteringacademy.com If oversubscribed priority will on a first come first serve basis. Booking will not be confirmed until BACS payment received. \n\nTimes will be issued on the Friday evening before the clinic day. \n\nBookings for several clinics can be made at one time – again payment will secure place. \n\nPlease indicate in booking if you are in-hand or ridden and if ridden then complete novice or open\, The name of handler/rider and horse name. \nIf you are coming with friends then who you would like in your group (we cannot guarantee this but will accommodate wherever possible). \n\nTREC Clinic Contact : Anne Davies 07841 412852 \n\nYour personal information that you supply to us may be used in several ways to facilitate your WARC event participation. It should be noted that we are affiliated to the British Horse Society as a British Riding Club. To see our full Privacy Policy\, or if you need any further information\, please write to us \n\nPLEASE ENSURE ALL DROPPINGS AND HAY ARE REMOVED FROM THE LORRY PARK
URL:https://www.witteringacademy.com/event/trec-clinic-2/
CATEGORIES:Trec
END:VEVENT
BEGIN:VEVENT
DTSTART;TZID=Europe/London:20250308T090000
DTEND;TZID=Europe/London:20250308T170000
DTSTAMP:20260420T020418
CREATED:20250202T090132Z
LAST-MODIFIED:20250202T090132Z
UID:2101-1741424400-1741453200@www.witteringacademy.com
SUMMARY:Dressage competition
DESCRIPTION:
URL:https://www.witteringacademy.com/event/dressage-competition-2/
CATEGORIES:Dressage Competition
END:VEVENT
BEGIN:VEVENT
DTSTART;VALUE=DATE:20250302
DTEND;VALUE=DATE:20250303
DTSTAMP:20260420T020418
CREATED:20250112T194446Z
LAST-MODIFIED:20250112T194446Z
UID:2078-1740873600-1740959999@www.witteringacademy.com
SUMMARY:Mentoring with Rachael Finch
DESCRIPTION:
URL:https://www.witteringacademy.com/event/mentoring-with-rachael-finch-2/
CATEGORIES:Mentoring
END:VEVENT
BEGIN:VEVENT
DTSTART;VALUE=DATE:20250223
DTEND;VALUE=DATE:20250224
DTSTAMP:20260420T020418
CREATED:20250112T194704Z
LAST-MODIFIED:20250112T194704Z
UID:2086-1740268800-1740355199@www.witteringacademy.com
SUMMARY:Mentoring with Claire Llewelyn
DESCRIPTION:
URL:https://www.witteringacademy.com/event/mentoring-with-claire-llewelyn-3/
CATEGORIES:Mentoring
END:VEVENT
BEGIN:VEVENT
DTSTART;VALUE=DATE:20250223
DTEND;VALUE=DATE:20250224
DTSTAMP:20260420T020418
CREATED:20250112T194300Z
LAST-MODIFIED:20250112T194300Z
UID:2072-1740268800-1740355199@www.witteringacademy.com
SUMMARY:Mentoring with Tom Fray
DESCRIPTION:
URL:https://www.witteringacademy.com/event/mentoring-with-tom-fray-3/
CATEGORIES:Mentoring
END:VEVENT
BEGIN:VEVENT
DTSTART;VALUE=DATE:20250222
DTEND;VALUE=DATE:20250223
DTSTAMP:20260420T020418
CREATED:20250112T194556Z
LAST-MODIFIED:20250112T194556Z
UID:2082-1740182400-1740268799@www.witteringacademy.com
SUMMARY:Mentoring with Julie Corrigan
DESCRIPTION:
URL:https://www.witteringacademy.com/event/mentoring-with-julie-corrigan-3/
CATEGORIES:Mentoring
END:VEVENT
BEGIN:VEVENT
DTSTART;VALUE=DATE:20250222
DTEND;VALUE=DATE:20250223
DTSTAMP:20260420T020418
CREATED:20250112T194155Z
LAST-MODIFIED:20250112T194155Z
UID:2068-1740182400-1740268799@www.witteringacademy.com
SUMMARY:Mentoring with Cathy Lammie
DESCRIPTION:
URL:https://www.witteringacademy.com/event/mentoring-with-cathy-lammie-3/
CATEGORIES:Mentoring
END:VEVENT
BEGIN:VEVENT
DTSTART;VALUE=DATE:20250216
DTEND;VALUE=DATE:20250217
DTSTAMP:20260420T020418
CREATED:20250127T212337Z
LAST-MODIFIED:20250127T212337Z
UID:2089-1739664000-1739750399@www.witteringacademy.com
SUMMARY:Trec Clinic
DESCRIPTION:2025 Trec Training Clinics\nSunday 16th February 2025\nSunday 9th March 2025\nSunday 13th April 2025 \n\nAT GRANGE FARM EQUESTRIAN CENTRE\, WITTERING\, NEAR STAMFORD\nBy kind permission of Mr and Mrs R Dunlop \n\nExperience the adventure of TREC under the excellent tutoring of Karen Barker and Rachael Finch. \n\nEach clinic will comprise of 5 obstacles for you to attempt. Full explanation of each obstacle will be given\, including what a judge would be looking for in a competition (skill\, pace\, etc).  Where possible we will also include the MA corridor for the control of paces section. \n\nWe will run 3 classes: In hand / Complete Novice / Open \n\nSessions will be in groups of 4 (max) for 1hour\, with first class starting at 10am on the day. \n\nCost will be Members £15.00 and Non Members £17.50 per person \n\nBACS payment details: Wittering Academy RC SC: 208120 ACCOUNT NO:50647357 \nPLEASE ENSURE YOU INCLIDE REFERENCE ‘TREC’  \nBookings can be made by emailing trec@witteringacademy.com If oversubscribed priority will on a first come first serve basis. Booking will not be confirmed until BACS payment received. \n\nTimes will be issued on the Friday evening before the clinic day. \n\nBookings for several clinics can be made at one time – again payment will secure place. \n\nPlease indicate in booking if you are in-hand or ridden and if ridden then complete novice or open\, The name of handler/rider and horse name. \nIf you are coming with friends then who you would like in your group (we cannot guarantee this but will accommodate wherever possible). \n\nTREC Clinic Contact : Anne Davies 07841 412852 \n\nYour personal information that you supply to us may be used in several ways to facilitate your WARC event participation. It should be noted that we are affiliated to the British Horse Society as a British Riding Club. To see our full Privacy Policy\, or if you need any further information\, please write to us \n\nPLEASE ENSURE ALL DROPPINGS AND HAY ARE REMOVED FROM THE LORRY PARK
URL:https://www.witteringacademy.com/event/trec-clinic/
CATEGORIES:Trec
END:VEVENT
BEGIN:VEVENT
DTSTART;VALUE=DATE:20250126
DTEND;VALUE=DATE:20250127
DTSTAMP:20260420T020418
CREATED:20250112T194523Z
LAST-MODIFIED:20250112T194523Z
UID:2080-1737849600-1737935999@www.witteringacademy.com
SUMMARY:Mentoring with Julie Corrigan
DESCRIPTION:
URL:https://www.witteringacademy.com/event/mentoring-with-julie-corrigan-2/
CATEGORIES:Mentoring
END:VEVENT
BEGIN:VEVENT
DTSTART;VALUE=DATE:20250126
DTEND;VALUE=DATE:20250127
DTSTAMP:20260420T020418
CREATED:20250112T194410Z
LAST-MODIFIED:20250112T194410Z
UID:2076-1737849600-1737935999@www.witteringacademy.com
SUMMARY:Mentoring with Rachael Finch
DESCRIPTION:
URL:https://www.witteringacademy.com/event/mentoring-with-rachael-finch/
CATEGORIES:Mentoring
END:VEVENT
END:VCALENDAR