BEGIN:VCALENDAR
VERSION:2.0
PRODID:-//Wittering Academy Riding Club - ECPv6.10.3//NONSGML v1.0//EN
CALSCALE:GREGORIAN
METHOD:PUBLISH
X-WR-CALNAME:Wittering Academy Riding Club
X-ORIGINAL-URL:https://www.witteringacademy.com
X-WR-CALDESC:Events for Wittering Academy Riding Club
REFRESH-INTERVAL;VALUE=DURATION:PT1H
X-Robots-Tag:noindex
X-PUBLISHED-TTL:PT1H
BEGIN:VTIMEZONE
TZID:Europe/London
BEGIN:DAYLIGHT
TZOFFSETFROM:+0000
TZOFFSETTO:+0100
TZNAME:BST
DTSTART:20240331T010000
END:DAYLIGHT
BEGIN:STANDARD
TZOFFSETFROM:+0100
TZOFFSETTO:+0000
TZNAME:GMT
DTSTART:20241027T010000
END:STANDARD
BEGIN:DAYLIGHT
TZOFFSETFROM:+0000
TZOFFSETTO:+0100
TZNAME:BST
DTSTART:20250330T010000
END:DAYLIGHT
BEGIN:STANDARD
TZOFFSETFROM:+0100
TZOFFSETTO:+0000
TZNAME:GMT
DTSTART:20251026T010000
END:STANDARD
END:VTIMEZONE
BEGIN:VEVENT
DTSTART;VALUE=DATE:20250216
DTEND;VALUE=DATE:20250217
DTSTAMP:20260420T061007
CREATED:20250127T212337Z
LAST-MODIFIED:20250127T212337Z
UID:2089-1739664000-1739750399@www.witteringacademy.com
SUMMARY:Trec Clinic
DESCRIPTION:2025 Trec Training Clinics\nSunday 16th February 2025\nSunday 9th March 2025\nSunday 13th April 2025 \n\nAT GRANGE FARM EQUESTRIAN CENTRE\, WITTERING\, NEAR STAMFORD\nBy kind permission of Mr and Mrs R Dunlop \n\nExperience the adventure of TREC under the excellent tutoring of Karen Barker and Rachael Finch. \n\nEach clinic will comprise of 5 obstacles for you to attempt. Full explanation of each obstacle will be given\, including what a judge would be looking for in a competition (skill\, pace\, etc).  Where possible we will also include the MA corridor for the control of paces section. \n\nWe will run 3 classes: In hand / Complete Novice / Open \n\nSessions will be in groups of 4 (max) for 1hour\, with first class starting at 10am on the day. \n\nCost will be Members £15.00 and Non Members £17.50 per person \n\nBACS payment details: Wittering Academy RC SC: 208120 ACCOUNT NO:50647357 \nPLEASE ENSURE YOU INCLIDE REFERENCE ‘TREC’  \nBookings can be made by emailing trec@witteringacademy.com If oversubscribed priority will on a first come first serve basis. Booking will not be confirmed until BACS payment received. \n\nTimes will be issued on the Friday evening before the clinic day. \n\nBookings for several clinics can be made at one time – again payment will secure place. \n\nPlease indicate in booking if you are in-hand or ridden and if ridden then complete novice or open\, The name of handler/rider and horse name. \nIf you are coming with friends then who you would like in your group (we cannot guarantee this but will accommodate wherever possible). \n\nTREC Clinic Contact : Anne Davies 07841 412852 \n\nYour personal information that you supply to us may be used in several ways to facilitate your WARC event participation. It should be noted that we are affiliated to the British Horse Society as a British Riding Club. To see our full Privacy Policy\, or if you need any further information\, please write to us \n\nPLEASE ENSURE ALL DROPPINGS AND HAY ARE REMOVED FROM THE LORRY PARK
URL:https://www.witteringacademy.com/event/trec-clinic/
CATEGORIES:Trec
END:VEVENT
BEGIN:VEVENT
DTSTART;VALUE=DATE:20250126
DTEND;VALUE=DATE:20250127
DTSTAMP:20260420T061007
CREATED:20250112T194523Z
LAST-MODIFIED:20250112T194523Z
UID:2080-1737849600-1737935999@www.witteringacademy.com
SUMMARY:Mentoring with Julie Corrigan
DESCRIPTION:
URL:https://www.witteringacademy.com/event/mentoring-with-julie-corrigan-2/
CATEGORIES:Mentoring
END:VEVENT
BEGIN:VEVENT
DTSTART;VALUE=DATE:20250126
DTEND;VALUE=DATE:20250127
DTSTAMP:20260420T061007
CREATED:20250112T194410Z
LAST-MODIFIED:20250112T194410Z
UID:2076-1737849600-1737935999@www.witteringacademy.com
SUMMARY:Mentoring with Rachael Finch
DESCRIPTION:
URL:https://www.witteringacademy.com/event/mentoring-with-rachael-finch/
CATEGORIES:Mentoring
END:VEVENT
BEGIN:VEVENT
DTSTART;VALUE=DATE:20250125
DTEND;VALUE=DATE:20250126
DTSTAMP:20260420T061007
CREATED:20250112T194634Z
LAST-MODIFIED:20250112T194634Z
UID:2084-1737763200-1737849599@www.witteringacademy.com
SUMMARY:Mentoring with Claire Llewelyn
DESCRIPTION:
URL:https://www.witteringacademy.com/event/mentoring-with-claire-llewelyn-2/
CATEGORIES:Mentoring
END:VEVENT
BEGIN:VEVENT
DTSTART;VALUE=DATE:20250125
DTEND;VALUE=DATE:20250126
DTSTAMP:20260420T061007
CREATED:20250112T194116Z
LAST-MODIFIED:20250112T194116Z
UID:2066-1737763200-1737849599@www.witteringacademy.com
SUMMARY:Mentoring with Cathy Lammie
DESCRIPTION:
URL:https://www.witteringacademy.com/event/mentoring-with-cathy-lammie-2/
CATEGORIES:Mentoring
END:VEVENT
BEGIN:VEVENT
DTSTART;VALUE=DATE:20250119
DTEND;VALUE=DATE:20250120
DTSTAMP:20260420T061007
CREATED:20241111T114452Z
LAST-MODIFIED:20250105T193734Z
UID:1976-1737244800-1737331199@www.witteringacademy.com
SUMMARY:Dressage Competition
DESCRIPTION:Dressage competition \nSun 19th January 2025 \nGrange Farm Equestrian Centre \n  \nOnline entries only \nSCHEDULE JAN25
URL:https://www.witteringacademy.com/event/dressage-competition-3/
CATEGORIES:Dressage Competition
END:VEVENT
BEGIN:VEVENT
DTSTART;VALUE=DATE:20241222
DTEND;VALUE=DATE:20241223
DTSTAMP:20260420T061007
CREATED:20241111T134810Z
LAST-MODIFIED:20241111T134810Z
UID:2002-1734825600-1734911999@www.witteringacademy.com
SUMMARY:Mentoring with Rachel Finch
DESCRIPTION:
URL:https://www.witteringacademy.com/event/mentoring-with-rachel-finch-2/
CATEGORIES:Mentoring
END:VEVENT
BEGIN:VEVENT
DTSTART;VALUE=DATE:20241215
DTEND;VALUE=DATE:20241216
DTSTAMP:20260420T061007
CREATED:20241111T114543Z
LAST-MODIFIED:20241111T114543Z
UID:1978-1734220800-1734307199@www.witteringacademy.com
SUMMARY:Dressage Competition
DESCRIPTION:Dressage competition \nSun 15th December 2024 \nGrange Farm Equestrian Centre \n  \nOnline entries only \nDressage schedule to follow
URL:https://www.witteringacademy.com/event/dressage-competition-4/
CATEGORIES:Dressage Competition
END:VEVENT
BEGIN:VEVENT
DTSTART;VALUE=DATE:20241214
DTEND;VALUE=DATE:20241215
DTSTAMP:20260420T061007
CREATED:20241111T134605Z
LAST-MODIFIED:20241111T134605Z
UID:1996-1734134400-1734220799@www.witteringacademy.com
SUMMARY:Mentoring with Tom Fray
DESCRIPTION:
URL:https://www.witteringacademy.com/event/mentoring-with-tom-fray-2/
CATEGORIES:Mentoring
END:VEVENT
BEGIN:VEVENT
DTSTART;VALUE=DATE:20241201
DTEND;VALUE=DATE:20241202
DTSTAMP:20260420T061007
CREATED:20241111T134457Z
LAST-MODIFIED:20241111T134457Z
UID:1992-1733011200-1733097599@www.witteringacademy.com
SUMMARY:Mentoring with Julie Corrigan
DESCRIPTION:
URL:https://www.witteringacademy.com/event/mentoring-with-julie-corrigan/
CATEGORIES:Mentoring
END:VEVENT
BEGIN:VEVENT
DTSTART;VALUE=DATE:20241130
DTEND;VALUE=DATE:20241201
DTSTAMP:20260420T061007
CREATED:20241111T134721Z
LAST-MODIFIED:20241111T134721Z
UID:2000-1732924800-1733011199@www.witteringacademy.com
SUMMARY:Mentoring with Cathy Lammie
DESCRIPTION:
URL:https://www.witteringacademy.com/event/mentoring-with-cathy-lammie/
CATEGORIES:Mentoring
END:VEVENT
BEGIN:VEVENT
DTSTART;VALUE=DATE:20241124
DTEND;VALUE=DATE:20241125
DTSTAMP:20260420T061007
CREATED:20241111T134533Z
LAST-MODIFIED:20241111T134533Z
UID:1994-1732406400-1732492799@www.witteringacademy.com
SUMMARY:Mentoring with Tom Fray
DESCRIPTION:
URL:https://www.witteringacademy.com/event/mentoring-with-tom-fray/
CATEGORIES:Mentoring
END:VEVENT
BEGIN:VEVENT
DTSTART;VALUE=DATE:20241123
DTEND;VALUE=DATE:20241124
DTSTAMP:20260420T061007
CREATED:20241111T134649Z
LAST-MODIFIED:20241111T134649Z
UID:1998-1732320000-1732406399@www.witteringacademy.com
SUMMARY:Mentoring with Claire Llewelyn
DESCRIPTION:
URL:https://www.witteringacademy.com/event/mentoring-with-claire-llewelyn/
CATEGORIES:Mentoring
END:VEVENT
BEGIN:VEVENT
DTSTART;VALUE=DATE:20241117
DTEND;VALUE=DATE:20241118
DTSTAMP:20260420T061007
CREATED:20241111T133902Z
LAST-MODIFIED:20241111T134238Z
UID:1989-1731801600-1731887999@www.witteringacademy.com
SUMMARY:Mentoring with Rachel Finch
DESCRIPTION:
URL:https://www.witteringacademy.com/event/mentoring-with-rachel-finch/
LOCATION:Grange Farm\, Wittering
CATEGORIES:Mentoring
END:VEVENT
BEGIN:VEVENT
DTSTART;VALUE=DATE:20241116
DTEND;VALUE=DATE:20241117
DTSTAMP:20260420T061007
CREATED:20241111T114625Z
LAST-MODIFIED:20241111T133547Z
UID:1981-1731715200-1731801599@www.witteringacademy.com
SUMMARY:Dressage Competition
DESCRIPTION:Dressage competition \nSat 16th November 2024 \nGrange Farm Equestrian Centre \n  \nOnline entries only \nDressage schedule
URL:https://www.witteringacademy.com/event/dressage-competition-5/
CATEGORIES:Dressage Competition
END:VEVENT
BEGIN:VEVENT
DTSTART;VALUE=DATE:20241110
DTEND;VALUE=DATE:20241111
DTSTAMP:20260420T061007
CREATED:20241111T114837Z
LAST-MODIFIED:20241111T114837Z
UID:1983-1731196800-1731283199@www.witteringacademy.com
SUMMARY:Arena Eventing
DESCRIPTION:
URL:https://www.witteringacademy.com/event/arena-eventing/
CATEGORIES:Arena Eventing
END:VEVENT
END:VCALENDAR