BEGIN:VCALENDAR
VERSION:2.0
PRODID:-//Wittering Academy Riding Club - ECPv6.10.3//NONSGML v1.0//EN
CALSCALE:GREGORIAN
METHOD:PUBLISH
X-WR-CALNAME:Wittering Academy Riding Club
X-ORIGINAL-URL:https://www.witteringacademy.com
X-WR-CALDESC:Events for Wittering Academy Riding Club
REFRESH-INTERVAL;VALUE=DURATION:PT1H
X-Robots-Tag:noindex
X-PUBLISHED-TTL:PT1H
BEGIN:VTIMEZONE
TZID:Europe/London
BEGIN:DAYLIGHT
TZOFFSETFROM:+0000
TZOFFSETTO:+0100
TZNAME:BST
DTSTART:20240331T010000
END:DAYLIGHT
BEGIN:STANDARD
TZOFFSETFROM:+0100
TZOFFSETTO:+0000
TZNAME:GMT
DTSTART:20241027T010000
END:STANDARD
END:VTIMEZONE
BEGIN:VEVENT
DTSTART;VALUE=DATE:20241123
DTEND;VALUE=DATE:20241124
DTSTAMP:20260420T075659
CREATED:20241111T134649Z
LAST-MODIFIED:20241111T134649Z
UID:1998-1732320000-1732406399@www.witteringacademy.com
SUMMARY:Mentoring with Claire Llewelyn
DESCRIPTION:
URL:https://www.witteringacademy.com/event/mentoring-with-claire-llewelyn/
CATEGORIES:Mentoring
END:VEVENT
BEGIN:VEVENT
DTSTART;VALUE=DATE:20241117
DTEND;VALUE=DATE:20241118
DTSTAMP:20260420T075659
CREATED:20241111T133902Z
LAST-MODIFIED:20241111T134238Z
UID:1989-1731801600-1731887999@www.witteringacademy.com
SUMMARY:Mentoring with Rachel Finch
DESCRIPTION:
URL:https://www.witteringacademy.com/event/mentoring-with-rachel-finch/
LOCATION:Grange Farm\, Wittering
CATEGORIES:Mentoring
END:VEVENT
BEGIN:VEVENT
DTSTART;VALUE=DATE:20241116
DTEND;VALUE=DATE:20241117
DTSTAMP:20260420T075659
CREATED:20241111T114625Z
LAST-MODIFIED:20241111T133547Z
UID:1981-1731715200-1731801599@www.witteringacademy.com
SUMMARY:Dressage Competition
DESCRIPTION:Dressage competition \nSat 16th November 2024 \nGrange Farm Equestrian Centre \n  \nOnline entries only \nDressage schedule
URL:https://www.witteringacademy.com/event/dressage-competition-5/
CATEGORIES:Dressage Competition
END:VEVENT
BEGIN:VEVENT
DTSTART;VALUE=DATE:20241110
DTEND;VALUE=DATE:20241111
DTSTAMP:20260420T075659
CREATED:20241111T114837Z
LAST-MODIFIED:20241111T114837Z
UID:1983-1731196800-1731283199@www.witteringacademy.com
SUMMARY:Arena Eventing
DESCRIPTION:
URL:https://www.witteringacademy.com/event/arena-eventing/
CATEGORIES:Arena Eventing
END:VEVENT
END:VCALENDAR