BEGIN:VCALENDAR
VERSION:2.0
PRODID:-//Wittering Academy Riding Club - ECPv6.10.3//NONSGML v1.0//EN
CALSCALE:GREGORIAN
METHOD:PUBLISH
X-ORIGINAL-URL:https://www.witteringacademy.com
X-WR-CALDESC:Events for Wittering Academy Riding Club
REFRESH-INTERVAL;VALUE=DURATION:PT1H
X-Robots-Tag:noindex
X-PUBLISHED-TTL:PT1H
BEGIN:VTIMEZONE
TZID:Europe/London
BEGIN:DAYLIGHT
TZOFFSETFROM:+0000
TZOFFSETTO:+0100
TZNAME:BST
DTSTART:20250330T010000
END:DAYLIGHT
BEGIN:STANDARD
TZOFFSETFROM:+0100
TZOFFSETTO:+0000
TZNAME:GMT
DTSTART:20251026T010000
END:STANDARD
END:VTIMEZONE
BEGIN:VEVENT
DTSTART;VALUE=DATE:20250913
DTEND;VALUE=DATE:20250914
DTSTAMP:20260419T152414
CREATED:20250719T123818Z
LAST-MODIFIED:20250719T123818Z
UID:2204-1757721600-1757807999@www.witteringacademy.com
SUMMARY:Cathy Lammie mentoring
DESCRIPTION:
URL:https://www.witteringacademy.com/event/cathy-lammie-mentoring-2/
CATEGORIES:Mentoring
END:VEVENT
BEGIN:VEVENT
DTSTART;VALUE=DATE:20250913
DTEND;VALUE=DATE:20250914
DTSTAMP:20260419T152414
CREATED:20250830T200123Z
LAST-MODIFIED:20250830T200123Z
UID:2215-1757721600-1757807999@www.witteringacademy.com
SUMMARY:Mentoring with Claire Llewelyn
DESCRIPTION:
URL:https://www.witteringacademy.com/event/mentoring-with-claire-llewelyn-8/
CATEGORIES:Mentoring
END:VEVENT
BEGIN:VEVENT
DTSTART;VALUE=DATE:20250920
DTEND;VALUE=DATE:20250921
DTSTAMP:20260419T152414
CREATED:20250719T123736Z
LAST-MODIFIED:20250830T200407Z
UID:2202-1758326400-1758412799@www.witteringacademy.com
SUMMARY:Tom Fray mentoring
DESCRIPTION:
URL:https://www.witteringacademy.com/event/tom-fray-mentoring-3/
CATEGORIES:Mentoring
END:VEVENT
BEGIN:VEVENT
DTSTART;VALUE=DATE:20250921
DTEND;VALUE=DATE:20250922
DTSTAMP:20260419T152414
CREATED:20250830T200450Z
LAST-MODIFIED:20250830T200450Z
UID:2221-1758412800-1758499199@www.witteringacademy.com
SUMMARY:Rachel Finch mentoring
DESCRIPTION:
URL:https://www.witteringacademy.com/event/rachel-finch-mentoring/
CATEGORIES:Mentoring
END:VEVENT
BEGIN:VEVENT
DTSTART;VALUE=DATE:20250927
DTEND;VALUE=DATE:20250928
DTSTAMP:20260419T152414
CREATED:20250915T164728Z
LAST-MODIFIED:20250915T164728Z
UID:2238-1758931200-1759017599@www.witteringacademy.com
SUMMARY:Julie Corrigan mentoring
DESCRIPTION:
URL:https://www.witteringacademy.com/event/julie-corrigan-mentoring-3/
CATEGORIES:Mentoring
END:VEVENT
BEGIN:VEVENT
DTSTART;VALUE=DATE:20250928
DTEND;VALUE=DATE:20250929
DTSTAMP:20260419T152414
CREATED:20250105T192647Z
LAST-MODIFIED:20250810T201430Z
UID:2041-1759017600-1759103999@www.witteringacademy.com
SUMMARY:Arena Eventing
DESCRIPTION:Arena Eventing competition \nSun 21st Sept 9am \nheld at Grange Farm\, Wittering \nby kind permission f Robin and Di Dunlop \nSchedule to follow
URL:https://www.witteringacademy.com/event/arena-eventing-2/
CATEGORIES:Arena Eventing
END:VEVENT
END:VCALENDAR